BEGIN:VCALENDAR
VERSION:2.0
PRODID:-//Oldschool Jam - Soul Jam - ECPv4.9.8//NONSGML v1.0//EN
CALSCALE:GREGORIAN
METHOD:PUBLISH
X-WR-CALNAME:Oldschool Jam - Soul Jam
X-ORIGINAL-URL:http://osjsj.net
X-WR-CALDESC:Events for Oldschool Jam - Soul Jam
BEGIN:VTIMEZONE
TZID:UTC
BEGIN:STANDARD
TZOFFSETFROM:+0000
TZOFFSETTO:+0000
TZNAME:UTC
DTSTART:20230101T000000
END:STANDARD
END:VTIMEZONE
BEGIN:VEVENT
DTSTART;TZID="UTC":20231020T210000
DTEND;TZID="UTC":20231021T030000
DTSTAMP:20260419T154514
CREATED:20220223T172153Z
LAST-MODIFIED:20231017T102233Z
UID:2259-1697835600-1697857200@osjsj.net
SUMMARY:Soul Jam / In Restaurant Da Driss\, Oct 20\, 2023
DESCRIPTION:Get ready for the SOUL JAM  in Restaurant Da Driss!  DJs Superjam and DJ Black Tiger bring you hot Classics mixed throughout the night. be sure to check our Facebook page for give-aways! https://www.facebook.com/oldschooljamsouljam   \n \nOur parties transform you back to the days of the famous NCO club All nighters from clubs like the Kazabra\, 49er\, Top Hat\, P.C.\, Emilia Erhart\, Woodland and countless others. You will hear songs from the 90’s\, the 80’s New Jack swing\, RnB\, Soul\, Funk \, Classic Hip Hop and even 70’s! We have a great atmosphere at our parties over the years. Good music\, line dances and even the Soul Train are what you can expect at our old school parties! So\, on October 20\, 2023 dress to impress or wear a Halloween costume to win a cash prize and Da Driss dinner and join us at the Soul Jam! \n
URL:http://osjsj.net/event/soul-jam-restaurant-da-driss-oct-20-2023/
LOCATION:Restaurant Da Driss\, Im Jungwald 43\, Kaiserslautern\, 67663\, Germany
ATTACH;FMTTYPE=image/png:http://osjsj.net/wp-content/uploads/2023/09/SOULJAM-HALLOWEEN-PNG-1.png
END:VEVENT
END:VCALENDAR