BEGIN:VCALENDAR
VERSION:2.0
PRODID:-//Oldschool Jam - Soul Jam - ECPv4.9.8//NONSGML v1.0//EN
CALSCALE:GREGORIAN
METHOD:PUBLISH
X-WR-CALNAME:Oldschool Jam - Soul Jam
X-ORIGINAL-URL:http://osjsj.net
X-WR-CALDESC:Events for Oldschool Jam - Soul Jam
BEGIN:VTIMEZONE
TZID:UTC
BEGIN:STANDARD
TZOFFSETFROM:+0000
TZOFFSETTO:+0000
TZNAME:UTC
DTSTART:20190101T000000
END:STANDARD
END:VTIMEZONE
BEGIN:VEVENT
DTSTART;TZID="UTC":20191115T210000
DTEND;TZID="UTC":20191116T030000
DTSTAMP:20260419T200209
CREATED:20191028T151739Z
LAST-MODIFIED:20191028T155548Z
UID:1796-1573851600-1573873200@osjsj.net
SUMMARY:Soul Jam in the Lautrer Wirtshaus
DESCRIPTION:
URL:http://osjsj.net/event/soul-jam-in-the-lautrer-wirtshaus/
LOCATION:Lautrer Wirtshaus\, Bahnheim 17c\, Kaiserslautern\, 67663\, Germany
ATTACH;FMTTYPE=image/jpeg:http://osjsj.net/wp-content/uploads/2019/10/flyerbahnrnovartistsbahnheim.jpg
END:VEVENT
END:VCALENDAR