BEGIN:VCALENDAR
VERSION:2.0
PRODID:-//Oldschool Jam - Soul Jam - ECPv4.9.8//NONSGML v1.0//EN
CALSCALE:GREGORIAN
METHOD:PUBLISH
X-WR-CALNAME:Oldschool Jam - Soul Jam
X-ORIGINAL-URL:http://osjsj.net
X-WR-CALDESC:Events for Oldschool Jam - Soul Jam
BEGIN:VTIMEZONE
TZID:UTC
BEGIN:STANDARD
TZOFFSETFROM:+0000
TZOFFSETTO:+0000
TZNAME:UTC
DTSTART:20220101T000000
END:STANDARD
END:VTIMEZONE
BEGIN:VEVENT
DTSTART;TZID="UTC":20220730T210000
DTEND;TZID="UTC":20220731T030000
DTSTAMP:20260419T140410
CREATED:20220509T210056Z
LAST-MODIFIED:20220710T221942Z
UID:2256-1659214800-1659236400@osjsj.net
SUMMARY:SOUL JAM in the Lautrer Wirtshaus July 30\, 2022
DESCRIPTION: \nIt’s time for another SOUL JAM with your resident DJ Superjam and Special guest. You will hear songs from the 90’s\, the 80’s New Jack swing\, RnB\, Soul\, Funk \, Classic Hip Hop and even 70’s! We have a great atmosphere in the Lautrer Wirtshause. Good music\, line dances and even the Soul Train are what you can expect at our old school Soul Jam parties!\n________________________________\nEs ist Zeit für einen weiteren SOUL JAM! DJ Superjam und Special Guest Sie hören Songs aus den 90er\, 80er New Jack Swing\, RnB\, Soul\, Funk\, Classic Hip Hop und sogar 70er! Wir haben eine tolle Atmosphäre in der Lautrer Wirtshause. Gute Musik\, Line Dances und sogar der Soul Train sind das\, was Sie auf unseren Soul Jam Partys der alten Schule erwarten können! \n
URL:http://osjsj.net/event/soul-jam-in-the-lautrer-wirtshaus-july-30-2022/
LOCATION:Lautrer Wirtshaus\, Bahnheim 17c\, Kaiserslautern\, 67663\, Germany
ATTACH;FMTTYPE=image/jpeg:http://osjsj.net/wp-content/uploads/2022/05/Flyer-Lautrer-Wirtshaus.jpg
END:VEVENT
END:VCALENDAR