BEGIN:VCALENDAR
VERSION:2.0
PRODID:-//Oldschool Jam - Soul Jam - ECPv4.9.8//NONSGML v1.0//EN
CALSCALE:GREGORIAN
METHOD:PUBLISH
X-WR-CALNAME:Oldschool Jam - Soul Jam
X-ORIGINAL-URL:http://osjsj.net
X-WR-CALDESC:Events for Oldschool Jam - Soul Jam
BEGIN:VTIMEZONE
TZID:UTC
BEGIN:STANDARD
TZOFFSETFROM:+0000
TZOFFSETTO:+0000
TZNAME:UTC
DTSTART:20230101T000000
END:STANDARD
END:VTIMEZONE
BEGIN:VEVENT
DTSTART;TZID="UTC":20231216T210000
DTEND;TZID="UTC":20231216T210000
DTSTAMP:20260419T153806
CREATED:20231120T075841Z
LAST-MODIFIED:20231120T080140Z
UID:2598-1702760400-1702760400@osjsj.net
SUMMARY:December 16th Soul Jam
DESCRIPTION:Save the NEW DATE DEC 16!!! It’s Oldschool Partytime with your resident DJs Superjam and DeeJay Mike LaRock! @restaurant Da Driss in K-Town (attached to the Rot Weiss Tennis club)! As in the 8 previous years that we have been doing this event\, you will continue hear songs from the 90’s\, the 80’s New Jack swing\, RnB\, Soul\, Funk\, Classic Hip Hop and even 70’s! We continue to bring a great atmosphere at our parties. Good music\, line dances and even the Soul Train are what you can expect at our old school Soul Jam parties! \n
URL:http://osjsj.net/event/december-16th-soul-jam/
LOCATION:Restaurant Da Driss\, Im Jungwald 43\, Kaiserslautern\, 67663\, Germany
ATTACH;FMTTYPE=image/png:http://osjsj.net/wp-content/uploads/2023/09/16-DEC-PNG.png
END:VEVENT
END:VCALENDAR