BEGIN:VCALENDAR
VERSION:2.0
PRODID:-//Oldschool Jam - Soul Jam - ECPv4.9.8//NONSGML v1.0//EN
CALSCALE:GREGORIAN
METHOD:PUBLISH
X-WR-CALNAME:Oldschool Jam - Soul Jam
X-ORIGINAL-URL:http://osjsj.net
X-WR-CALDESC:Events for Oldschool Jam - Soul Jam
BEGIN:VTIMEZONE
TZID:UTC
BEGIN:STANDARD
TZOFFSETFROM:+0000
TZOFFSETTO:+0000
TZNAME:UTC
DTSTART:20210101T000000
END:STANDARD
END:VTIMEZONE
BEGIN:VEVENT
DTSTART;TZID="UTC":20210821T170000
DTEND;TZID="UTC":20210821T233000
DTSTAMP:20260419T172626
CREATED:20210817T162602Z
LAST-MODIFIED:20210818T102958Z
UID:1994-1629565200-1629588600@osjsj.net
SUMMARY:Cocktails Abend at Seewoog August 21\, 2021
DESCRIPTION:It’s partytime everyone!! DJ Superjam mixing up the finest in old school and classics from the 80’s 90’s and 2000’s \n \nGOOGLE MAPS ADDRESS: \nhttps://goo.gl/maps/EwqpYUZtgoHndb6QA \n
URL:http://osjsj.net/event/cocktails-abend-at-seewoog-august-21-2021/
LOCATION:Seewooghuette\, Miesenbach\, waldstrasse\, Miesenbach\, Rheinland Pfalz\, 66877\, Germany
ATTACH;FMTTYPE=image/png:http://osjsj.net/wp-content/uploads/2021/08/My-Post-2021-08-17T182312.434.png
END:VEVENT
END:VCALENDAR